BEGIN:VCALENDAR
VERSION:2.0
PRODID:Imitheme.com 
BEGIN:VEVENT
UID:20260422T0635121214116984
DTSTAMP;TZID=UTC:2026-04-22 06:35:12
DTSTART;TZID=America/Los_Angeles:20260422T063512
DTEND;TZID=America/Los_Angeles:20260422T063512
SUMMARY:Orientation
LOCATION:
DESCRIPTION:One you register you will not receive a confirmation but you are registered to attend. Click on the date on the right to view/select additional dates.
URL:https://pacifichealthcaretraining.com/eventer/orientation/
END:VEVENT
END:VCALENDAR
